BEGIN:VCALENDAR
PRODID:concert.ua
VERSION:2.0
CALSCALE:GREGORIAN
BEGIN:VEVENT
UID:3082-@concert.ua
DTSTAMP:20260422T180013Z
SUMMARY:Старт продажів для події «ДахаБраха
 »
DESCRIPTION:Старт продажів для події «ДахаБра
 ха»
URL:https://concert.ua/uk/event/dahabraha-bila-tserkva
DTSTART:20260427T100000
DTEND:20260930T203000
LOCATION:Біла Церква\, вул. Леваневського\, 53
ORGANIZER;CN=ФОП Рубцов Олександр Володимиров
 ич:mailto:ars3366@ukr.net
BEGIN:VALARM
ACTION:DISPLAY
DESCRIPTION:Вже через 24 годин почнеться продаж
  квитків на подію «ДахаБраха»
TRIGGER:-P1D
END:VALARM
BEGIN:VALARM
ACTION:DISPLAY
DESCRIPTION:Вже за 60 хвилин розпочнеться прода
 ж квитків на подію «ДахаБраха»
TRIGGER:-PT1H
END:VALARM
BEGIN:VALARM
ACTION:DISPLAY
DESCRIPTION:Вже за 15 хвилин розпочнеться прода
 ж квитків на подію «ДахаБраха»
TRIGGER:-PT15M
END:VALARM
BEGIN:VALARM
ACTION:AUDIO
TRIGGER:-PT10M
END:VALARM
END:VEVENT
BEGIN:VTIMEZONE
TZID:Europe/Kyiv
BEGIN:DAYLIGHT
DTSTART:20260422T210013
TZNAME:EEST
TZOFFSETTO:+0300
TZOFFSETFROM:+0300
END:DAYLIGHT
BEGIN:STANDARD
DTSTART:20261025T030000
TZNAME:EET
TZOFFSETTO:+0200
TZOFFSETFROM:+0300
END:STANDARD
BEGIN:DAYLIGHT
DTSTART:20270328T040000
TZNAME:EEST
TZOFFSETTO:+0300
TZOFFSETFROM:+0200
END:DAYLIGHT
BEGIN:STANDARD
DTSTART:20271031T030000
TZNAME:EET
TZOFFSETTO:+0200
TZOFFSETFROM:+0300
END:STANDARD
BEGIN:DAYLIGHT
DTSTART:20280326T040000
TZNAME:EEST
TZOFFSETTO:+0300
TZOFFSETFROM:+0200
END:DAYLIGHT
END:VTIMEZONE
END:VCALENDAR
